BEGIN:VCALENDAR
VERSION:2.0
PRODID:-//National Engineering Center - ECPv6.2.4//NONSGML v1.0//EN
CALSCALE:GREGORIAN
METHOD:PUBLISH
X-ORIGINAL-URL:https://nec.up.edu.ph
X-WR-CALDESC:Events for National Engineering Center
REFRESH-INTERVAL;VALUE=DURATION:PT1H
X-Robots-Tag:noindex
X-PUBLISHED-TTL:PT1H
BEGIN:VTIMEZONE
TZID:Asia/Manila
BEGIN:STANDARD
TZOFFSETFROM:+0800
TZOFFSETTO:+0800
TZNAME:PST
DTSTART:20180101T000000
END:STANDARD
END:VTIMEZONE
BEGIN:VEVENT
DTSTART;TZID=Asia/Manila:20180807T080000
DTEND;TZID=Asia/Manila:20180809T170000
DTSTAMP:20260426T004233
CREATED:20180706T155926Z
LAST-MODIFIED:20230327T085059Z
UID:191-1533628800-1533834000@nec.up.edu.ph
SUMMARY:Construction Contract Management
DESCRIPTION:To register\, click HERE
URL:https://nec.up.edu.ph/training-calendar/construction-contract-management/
END:VEVENT
BEGIN:VEVENT
DTSTART;TZID=Asia/Manila:20180807T080000
DTEND;TZID=Asia/Manila:20180809T170000
DTSTAMP:20260426T004234
CREATED:20180706T161913Z
LAST-MODIFIED:20230327T085059Z
UID:195-1533628800-1533834000@nec.up.edu.ph
SUMMARY:Maintenance of Electric Motors
DESCRIPTION:To register\, click HERE
URL:https://nec.up.edu.ph/training-calendar/maintenance-of-electric-motors/
END:VEVENT
END:VCALENDAR