BEGIN:VCALENDAR
VERSION:2.0
PRODID:-//National Engineering Center - ECPv6.2.4//NONSGML v1.0//EN
CALSCALE:GREGORIAN
METHOD:PUBLISH
X-WR-CALNAME:National Engineering Center
X-ORIGINAL-URL:https://nec.up.edu.ph
X-WR-CALDESC:Events for National Engineering Center
REFRESH-INTERVAL;VALUE=DURATION:PT1H
X-Robots-Tag:noindex
X-PUBLISHED-TTL:PT1H
BEGIN:VTIMEZONE
TZID:Asia/Manila
BEGIN:STANDARD
TZOFFSETFROM:+0800
TZOFFSETTO:+0800
TZNAME:PST
DTSTART:20190101T000000
END:STANDARD
END:VTIMEZONE
BEGIN:VEVENT
DTSTART;TZID=Asia/Manila:20190709T080000
DTEND;TZID=Asia/Manila:20190711T170000
DTSTAMP:20260421T224940
CREATED:20181123T155047Z
LAST-MODIFIED:20230327T085005Z
UID:555-1562659200-1562864400@nec.up.edu.ph
SUMMARY:Project Management in the Construction Industry
DESCRIPTION:To register\, go to our Online Registration Site: http://bit.ly/UPNECRegistration
URL:https://nec.up.edu.ph/training-calendar/project-management-in-the-construction-industry-2/
CATEGORIES:Training Schedule
END:VEVENT
BEGIN:VEVENT
DTSTART;TZID=Asia/Manila:20190709T080000
DTEND;TZID=Asia/Manila:20190711T170000
DTSTAMP:20260421T224940
CREATED:20181127T100612Z
LAST-MODIFIED:20230327T085005Z
UID:602-1562659200-1562864400@nec.up.edu.ph
SUMMARY:Business Analytics Certification Program Module D: Predictive Analytics
DESCRIPTION:To register\, go to our Online Registration Site: http://bit.ly/UPNECRegistration
URL:https://nec.up.edu.ph/training-calendar/business-analytics-certification-program-module-d-prescriptive-analytics/
CATEGORIES:Training Schedule
END:VEVENT
END:VCALENDAR