BEGIN:VCALENDAR
VERSION:2.0
PRODID:-//National Engineering Center - ECPv6.2.4//NONSGML v1.0//EN
CALSCALE:GREGORIAN
METHOD:PUBLISH
X-WR-CALNAME:National Engineering Center
X-ORIGINAL-URL:https://nec.up.edu.ph
X-WR-CALDESC:Events for National Engineering Center
REFRESH-INTERVAL;VALUE=DURATION:PT1H
X-Robots-Tag:noindex
X-PUBLISHED-TTL:PT1H
BEGIN:VTIMEZONE
TZID:Asia/Manila
BEGIN:STANDARD
TZOFFSETFROM:+0800
TZOFFSETTO:+0800
TZNAME:PST
DTSTART:20190101T000000
END:STANDARD
END:VTIMEZONE
BEGIN:VEVENT
DTSTART;TZID=Asia/Manila:20190923T080000
DTEND;TZID=Asia/Manila:20190930T170000
DTSTAMP:20260426T015723
CREATED:20190130T094109Z
LAST-MODIFIED:20230327T085004Z
UID:676-1569225600-1569862800@nec.up.edu.ph
SUMMARY:Public Procurement Specialist Certification Program Level 3 (Advanced) - Legazpi
DESCRIPTION:To register\, go to our Online Registration Site: http://bit.ly/UPNECRegistration
URL:https://nec.up.edu.ph/training-calendar/public-procurement-specialist-certification-program-level-3-advanced-legazpi/
CATEGORIES:Training Schedule
END:VEVENT
BEGIN:VEVENT
DTSTART;TZID=Asia/Manila:20190917T080000
DTEND;TZID=Asia/Manila:20190919T170000
DTSTAMP:20260426T015723
CREATED:20181123T160941Z
LAST-MODIFIED:20230327T085004Z
UID:5309-1568707200-1568912400@nec.up.edu.ph
SUMMARY:Systematic Failure Analysis
DESCRIPTION:To register\, go to our Online Registration Site: http://bit.ly/UPNECRegistration
URL:https://nec.up.edu.ph/training-calendar/systematic-failure-analysis/
CATEGORIES:Training Schedule
END:VEVENT
BEGIN:VEVENT
DTSTART;TZID=Asia/Manila:20190917T080000
DTEND;TZID=Asia/Manila:20190919T170000
DTSTAMP:20260426T015723
CREATED:20181123T160904Z
LAST-MODIFIED:20230327T085004Z
UID:569-1568707200-1568912400@nec.up.edu.ph
SUMMARY:Professional Certificate in Construction Management Course 3: Construction Project Cost Estimating and Analysis
DESCRIPTION:To register\, go to our Online Registration Site: http://bit.ly/UPNECRegistration
URL:https://nec.up.edu.ph/training-calendar/professional-certificate-in-construction-management-course-3-construction-project-cost-estimating-and-analysis-2/
CATEGORIES:Training Schedule
END:VEVENT
BEGIN:VEVENT
DTSTART;TZID=Asia/Manila:20190903T080000
DTEND;TZID=Asia/Manila:20190905T170000
DTSTAMP:20260426T015723
CREATED:20181123T155200Z
LAST-MODIFIED:20230327T085004Z
UID:557-1567497600-1567702800@nec.up.edu.ph
SUMMARY:Reliability-based Lubrication for Improved Reliability
DESCRIPTION:To register\, go to our Online Registration Site: http://bit.ly/UPNECRegistration
URL:https://nec.up.edu.ph/training-calendar/reliability-based-lubrication-for-improved-reliability/
CATEGORIES:Training Schedule
END:VEVENT
BEGIN:VEVENT
DTSTART;TZID=Asia/Manila:20190827T080000
DTEND;TZID=Asia/Manila:20190829T170000
DTSTAMP:20260426T015723
CREATED:20181123T160754Z
LAST-MODIFIED:20230327T085004Z
UID:567-1566892800-1567098000@nec.up.edu.ph
SUMMARY:Industrial Maintenance Management System
DESCRIPTION:To register\, go to our Online Registration Site: http://bit.ly/UPNECRegistration
URL:https://nec.up.edu.ph/training-calendar/industrial-maintenance-management-system-2/
CATEGORIES:Training Schedule
END:VEVENT
BEGIN:VEVENT
DTSTART;TZID=Asia/Manila:20190827T080000
DTEND;TZID=Asia/Manila:20190829T170000
DTSTAMP:20260426T015723
CREATED:20181123T160658Z
LAST-MODIFIED:20230327T085004Z
UID:565-1566892800-1567098000@nec.up.edu.ph
SUMMARY:Professional Certificate in Facilities Management Series 1
DESCRIPTION:To register\, go to our Online Registration Site: http://bit.ly/UPNECRegistration
URL:https://nec.up.edu.ph/training-calendar/professional-certificate-in-facilities-management-series-1-3/
CATEGORIES:Training Schedule
END:VEVENT
BEGIN:VEVENT
DTSTART;TZID=Asia/Manila:20190813T080000
DTEND;TZID=Asia/Manila:20190815T170000
DTSTAMP:20260426T015723
CREATED:20181123T160359Z
LAST-MODIFIED:20230327T085004Z
UID:563-1565683200-1565888400@nec.up.edu.ph
SUMMARY:Maintenance of Electric Motors
DESCRIPTION:To register\, go to our Online Registration Site: http://bit.ly/UPNECRegistration
URL:https://nec.up.edu.ph/training-calendar/maintenance-of-electric-motors-2/
CATEGORIES:Training Schedule
END:VEVENT
BEGIN:VEVENT
DTSTART;TZID=Asia/Manila:20190806T080000
DTEND;TZID=Asia/Manila:20190808T170000
DTSTAMP:20260426T015723
CREATED:20181123T160306Z
LAST-MODIFIED:20230327T085005Z
UID:561-1565078400-1565283600@nec.up.edu.ph
SUMMARY:Professional Certificate in Construction Management Course 5: Construction Contract Management
DESCRIPTION:To register\, go to our Online Registration Site: http://bit.ly/UPNECRegistration
URL:https://nec.up.edu.ph/training-calendar/professional-certificate-in-construction-management-course-5-construction-contract-management/
CATEGORIES:Training Schedule
END:VEVENT
BEGIN:VEVENT
DTSTART;TZID=Asia/Manila:20190805T080000
DTEND;TZID=Asia/Manila:20190813T170000
DTSTAMP:20260426T015723
CREATED:20181127T153255Z
LAST-MODIFIED:20230327T085005Z
UID:615-1564992000-1565715600@nec.up.edu.ph
SUMMARY:Public Procurement Specialist Certification Program Level 1 ( Basic) - Cebu
DESCRIPTION:To register\, go to our Online Registration Site: http://bit.ly/UPNECRegistration
URL:https://nec.up.edu.ph/training-calendar/public-procurement-specialist-certification-program-level-1-basic-cebu/
CATEGORIES:Training Schedule
END:VEVENT
BEGIN:VEVENT
DTSTART;TZID=Asia/Manila:20190715T080000
DTEND;TZID=Asia/Manila:20190719T170000
DTSTAMP:20260426T015723
CREATED:20181123T160207Z
LAST-MODIFIED:20230327T085005Z
UID:559-1563177600-1563555600@nec.up.edu.ph
SUMMARY:Certificate Program on Toxic and Hazardous Waste Management: Inspection\, Compliance and Enforcement (THW 230)
DESCRIPTION:To register\, go to our Online Registration Site: http://bit.ly/UPNECRegistration
URL:https://nec.up.edu.ph/training-calendar/certificate-program-on-toxic-and-hazardous-waste-management-inspection-compliance-and-enforcement-thw-230/
CATEGORIES:Training Schedule
END:VEVENT
BEGIN:VEVENT
DTSTART;TZID=Asia/Manila:20190709T080000
DTEND;TZID=Asia/Manila:20190711T170000
DTSTAMP:20260426T015723
CREATED:20181127T100612Z
LAST-MODIFIED:20230327T085005Z
UID:602-1562659200-1562864400@nec.up.edu.ph
SUMMARY:Business Analytics Certification Program Module D: Predictive Analytics
DESCRIPTION:To register\, go to our Online Registration Site: http://bit.ly/UPNECRegistration
URL:https://nec.up.edu.ph/training-calendar/business-analytics-certification-program-module-d-prescriptive-analytics/
CATEGORIES:Training Schedule
END:VEVENT
BEGIN:VEVENT
DTSTART;TZID=Asia/Manila:20190709T080000
DTEND;TZID=Asia/Manila:20190711T170000
DTSTAMP:20260426T015723
CREATED:20181123T155047Z
LAST-MODIFIED:20230327T085005Z
UID:555-1562659200-1562864400@nec.up.edu.ph
SUMMARY:Project Management in the Construction Industry
DESCRIPTION:To register\, go to our Online Registration Site: http://bit.ly/UPNECRegistration
URL:https://nec.up.edu.ph/training-calendar/project-management-in-the-construction-industry-2/
CATEGORIES:Training Schedule
END:VEVENT
BEGIN:VEVENT
DTSTART;TZID=Asia/Manila:20190702T080000
DTEND;TZID=Asia/Manila:20190704T170000
DTSTAMP:20260426T015723
CREATED:20190625T092320Z
LAST-MODIFIED:20230327T085005Z
UID:728-1562054400-1562259600@nec.up.edu.ph
SUMMARY:Instrumentation and Control for Industrial Applications
DESCRIPTION:To register\, go to our Online Registration Site: http://bit.ly/UPNECRegistration
URL:https://nec.up.edu.ph/training-calendar/instrumentation-and-control-for-industrial-applications-3/
CATEGORIES:Training Schedule
END:VEVENT
BEGIN:VEVENT
DTSTART;TZID=Asia/Manila:20190701T080000
DTEND;TZID=Asia/Manila:20190705T170000
DTSTAMP:20260426T015723
CREATED:20181123T151645Z
LAST-MODIFIED:20230327T085005Z
UID:550-1561968000-1562346000@nec.up.edu.ph
SUMMARY:Biological Waste Water Treatment
DESCRIPTION:To register\, go to our Online Registration Site: http://bit.ly/UPNECRegistration
URL:https://nec.up.edu.ph/training-calendar/biological-waste-water-treatment-2/
CATEGORIES:Training Schedule
END:VEVENT
BEGIN:VEVENT
DTSTART;TZID=Asia/Manila:20190625T080000
DTEND;TZID=Asia/Manila:20190627T170000
DTSTAMP:20260426T015723
CREATED:20181123T151544Z
LAST-MODIFIED:20230327T085022Z
UID:548-1561449600-1561654800@nec.up.edu.ph
SUMMARY:Project Management
DESCRIPTION:To register\, go to our Online Registration Site: http://bit.ly/UPNECRegistration
URL:https://nec.up.edu.ph/training-calendar/project-management-2/
CATEGORIES:Training Schedule
END:VEVENT
BEGIN:VEVENT
DTSTART;TZID=Asia/Manila:20190625T080000
DTEND;TZID=Asia/Manila:20190627T170000
DTSTAMP:20260426T015723
CREATED:20181123T151443Z
LAST-MODIFIED:20230327T085022Z
UID:546-1561449600-1561654800@nec.up.edu.ph
SUMMARY:Reduce Unnecessary Costs with value Engineering and Analysis
DESCRIPTION:To register\, go to our Online Registration Site: http://bit.ly/UPNECRegistration
URL:https://nec.up.edu.ph/training-calendar/reduce-unnecessary-costs-with-value-engineering-and-analysis/
CATEGORIES:Training Schedule
END:VEVENT
BEGIN:VEVENT
DTSTART;TZID=Asia/Manila:20190618T080000
DTEND;TZID=Asia/Manila:20190620T170000
DTSTAMP:20260426T015723
CREATED:20181127T100304Z
LAST-MODIFIED:20230327T085022Z
UID:600-1560844800-1561050000@nec.up.edu.ph
SUMMARY:Business Analytics Certification Program Module C: Descriptive Analytics
DESCRIPTION:To register\, go to our Online Registration Site: http://bit.ly/UPNECRegistration
URL:https://nec.up.edu.ph/training-calendar/business-analytics-certification-program-module-c-descriptive-analytics/
CATEGORIES:Training Schedule
END:VEVENT
BEGIN:VEVENT
DTSTART;TZID=Asia/Manila:20190618T080000
DTEND;TZID=Asia/Manila:20190620T170000
DTSTAMP:20260426T015723
CREATED:20181123T095701Z
LAST-MODIFIED:20230327T085022Z
UID:539-1560844800-1561050000@nec.up.edu.ph
SUMMARY:Professional Certificate in Facilities Management Series 3
DESCRIPTION:To register\, go to our Online Registration Site: http://bit.ly/UPNECRegistration
URL:https://nec.up.edu.ph/training-calendar/professional-certificate-in-facilities-management-series-3-3/
CATEGORIES:Training Schedule
END:VEVENT
BEGIN:VEVENT
DTSTART;TZID=Asia/Manila:20190618T080000
DTEND;TZID=Asia/Manila:20190619T170000
DTSTAMP:20260426T015723
CREATED:20181123T095808Z
LAST-MODIFIED:20230327T085022Z
UID:541-1560844800-1560963600@nec.up.edu.ph
SUMMARY:Basic Solar Photovoltaic
DESCRIPTION:To register\, go to our Online Registration Site: http://bit.ly/UPNECRegistration
URL:https://nec.up.edu.ph/training-calendar/basic-solar-photovoltaic/
CATEGORIES:Training Schedule
END:VEVENT
BEGIN:VEVENT
DTSTART;TZID=Asia/Manila:20190614T080000
DTEND;TZID=Asia/Manila:20190620T170000
DTSTAMP:20260426T015723
CREATED:20181127T154434Z
LAST-MODIFIED:20230327T085022Z
UID:620-1560499200-1561050000@nec.up.edu.ph
SUMMARY:Public Procurement Specialist Certification Program Level 2 (Intermediate) - Baguio
DESCRIPTION:To register\, go to our Online Registration Site: http://bit.ly/UPNECRegistration
URL:https://nec.up.edu.ph/training-calendar/public-procurement-specialist-certification-program-level-2-intermediate-baguio/
CATEGORIES:Training Schedule
END:VEVENT
BEGIN:VEVENT
DTSTART;TZID=Asia/Manila:20190528T080000
DTEND;TZID=Asia/Manila:20190528T080000
DTSTAMP:20260426T015723
CREATED:20181123T095325Z
LAST-MODIFIED:20230327T085022Z
UID:537-1559030400-1559030400@nec.up.edu.ph
SUMMARY:Reliability-centered Maintenance
DESCRIPTION:To register\, go to our Online Registration Site: http://bit.ly/UPNECRegistration
URL:https://nec.up.edu.ph/training-calendar/reliability-centered-maintenance/
CATEGORIES:Training Schedule
END:VEVENT
BEGIN:VEVENT
DTSTART;TZID=Asia/Manila:20190527T080000
DTEND;TZID=Asia/Manila:20190603T170000
DTSTAMP:20260426T015723
CREATED:20181127T154243Z
LAST-MODIFIED:20230327T085022Z
UID:618-1558944000-1559581200@nec.up.edu.ph
SUMMARY:Public Procurement Specialist Certification Program Level 2 (Intermediate) - Legazpi
DESCRIPTION:To register\, go to our Online Registration Site: http://bit.ly/UPNECRegistration
URL:https://nec.up.edu.ph/training-calendar/public-procurement-specialist-certification-program-level-2-intermediate-upnec/
CATEGORIES:Training Schedule
END:VEVENT
BEGIN:VEVENT
DTSTART;TZID=Asia/Manila:20190521T080000
DTEND;TZID=Asia/Manila:20190523T170000
DTSTAMP:20260426T015723
CREATED:20181123T095154Z
LAST-MODIFIED:20230327T085022Z
UID:5308-1558425600-1558630800@nec.up.edu.ph
SUMMARY:Online Global Information System (GIS) and Web Mapping
DESCRIPTION:To register\, go to our Online Registration Site: http://bit.ly/UPNECRegistration
URL:https://nec.up.edu.ph/training-calendar/online-global-information-system-gis-and-web-mapping/
CATEGORIES:Training Schedule
END:VEVENT
BEGIN:VEVENT
DTSTART;TZID=Asia/Manila:20190514T080000
DTEND;TZID=Asia/Manila:20190516T170000
DTSTAMP:20260426T015723
CREATED:20181127T100133Z
LAST-MODIFIED:20230327T085022Z
UID:598-1557820800-1558026000@nec.up.edu.ph
SUMMARY:Business Analytics Certification Program Module B: Data Warehousing
DESCRIPTION:To register\, go to our Online Registration Site: http://bit.ly/UPNECRegistration
URL:https://nec.up.edu.ph/training-calendar/business-analytics-certification-program-module-b-data-warehousing/
CATEGORIES:Training Schedule
END:VEVENT
BEGIN:VEVENT
DTSTART;TZID=Asia/Manila:20190507T080000
DTEND;TZID=Asia/Manila:20190509T170000
DTSTAMP:20260426T015723
CREATED:20181123T095020Z
LAST-MODIFIED:20241202T032923Z
UID:533-1557216000-1557421200@nec.up.edu.ph
SUMMARY:Professional Certificate in Construction Management Course 3: Construction Project Cost Estimating and Analysis
DESCRIPTION:To register\, go to our Online Registration Site: http://bit.ly/UPNECRegistration
URL:https://nec.up.edu.ph/training-calendar/professional-certificate-in-construction-management-course-3-construction-project-cost-estimating-and-analysis/
CATEGORIES:Training Schedule
END:VEVENT
BEGIN:VEVENT
DTSTART;TZID=Asia/Manila:20190507T080000
DTEND;TZID=Asia/Manila:20190509T170000
DTSTAMP:20260426T015723
CREATED:20181123T094551Z
LAST-MODIFIED:20230327T085022Z
UID:5307-1557216000-1557421200@nec.up.edu.ph
SUMMARY:Professional Certificate in Facilities Management Series 2
DESCRIPTION:To register\, go to our Online Registration Site: http://bit.ly/UPNECRegistration
URL:https://nec.up.edu.ph/training-calendar/professional-certificate-in-facilities-management-series-2/
CATEGORIES:Training Schedule
END:VEVENT
BEGIN:VEVENT
DTSTART;TZID=Asia/Manila:20190423T080000
DTEND;TZID=Asia/Manila:20190430T170000
DTSTAMP:20260426T015723
CREATED:20190130T092122Z
LAST-MODIFIED:20230327T085022Z
UID:664-1556006400-1556643600@nec.up.edu.ph
SUMMARY:Public Procurement Specialist Certification Program Level 1 ( Basic) - Palawan
DESCRIPTION:To register\, go to our Online Registration Site: http://bit.ly/UPNECRegistration
URL:https://nec.up.edu.ph/training-calendar/public-procurement-specialist-certification-program-level-1-basic-palawan/
CATEGORIES:Training Schedule
END:VEVENT
BEGIN:VEVENT
DTSTART;TZID=Asia/Manila:20190423T080000
DTEND;TZID=Asia/Manila:20190425T170000
DTSTAMP:20260426T015723
CREATED:20181123T093456Z
LAST-MODIFIED:20230327T085022Z
UID:527-1556006400-1556211600@nec.up.edu.ph
SUMMARY:Professional Certificate in Construction Management Course 2: Materials and Process Control in Construction
DESCRIPTION:To register\, go to our Online Registration Site: http://bit.ly/UPNECRegistration
URL:https://nec.up.edu.ph/training-calendar/professional-certificate-in-construction-management-course-2-materials-and-process-control-in-construction/
CATEGORIES:Training Schedule
END:VEVENT
BEGIN:VEVENT
DTSTART;TZID=Asia/Manila:20190423T080000
DTEND;TZID=Asia/Manila:20190424T170000
DTSTAMP:20260426T015723
CREATED:20181123T093647Z
LAST-MODIFIED:20230327T085022Z
UID:5306-1556006400-1556125200@nec.up.edu.ph
SUMMARY:Structured Cabling System and Design
DESCRIPTION:To register\, go to our Online Registration Site: http://bit.ly/UPNECRegistration
URL:https://nec.up.edu.ph/training-calendar/structured-cabling-system-and-design/
CATEGORIES:Training Schedule
END:VEVENT
BEGIN:VEVENT
DTSTART;TZID=Asia/Manila:20190410T080000
DTEND;TZID=Asia/Manila:20190412T170000
DTSTAMP:20260426T015723
CREATED:20181123T092947Z
LAST-MODIFIED:20230327T085023Z
UID:525-1554883200-1555088400@nec.up.edu.ph
SUMMARY:Predictive Maintenance and Conditioning Monitoring
DESCRIPTION:To register\, go to our Online Registration Site: http://bit.ly/UPNECRegistration
URL:https://nec.up.edu.ph/training-calendar/predictive-maintenance-and-conditioning-monitoring-2/
CATEGORIES:Training Schedule
END:VEVENT
END:VCALENDAR