BEGIN:VCALENDAR
VERSION:2.0
PRODID:-//National Engineering Center - ECPv6.2.4//NONSGML v1.0//EN
CALSCALE:GREGORIAN
METHOD:PUBLISH
X-WR-CALNAME:National Engineering Center
X-ORIGINAL-URL:https://nec.up.edu.ph
X-WR-CALDESC:Events for National Engineering Center
REFRESH-INTERVAL;VALUE=DURATION:PT1H
X-Robots-Tag:noindex
X-PUBLISHED-TTL:PT1H
BEGIN:VTIMEZONE
TZID:Asia/Manila
BEGIN:STANDARD
TZOFFSETFROM:+0800
TZOFFSETTO:+0800
TZNAME:PST
DTSTART:20180101T000000
END:STANDARD
END:VTIMEZONE
BEGIN:VEVENT
DTSTART;TZID=Asia/Manila:20190528T080000
DTEND;TZID=Asia/Manila:20190528T080000
DTSTAMP:20260424T210959
CREATED:20181123T095325Z
LAST-MODIFIED:20230327T085022Z
UID:537-1559030400-1559030400@nec.up.edu.ph
SUMMARY:Reliability-centered Maintenance
DESCRIPTION:To register\, go to our Online Registration Site: http://bit.ly/UPNECRegistration
URL:https://nec.up.edu.ph/training-calendar/reliability-centered-maintenance/
CATEGORIES:Training Schedule
END:VEVENT
BEGIN:VEVENT
DTSTART;TZID=Asia/Manila:20190527T080000
DTEND;TZID=Asia/Manila:20190603T170000
DTSTAMP:20260424T210959
CREATED:20181127T154243Z
LAST-MODIFIED:20230327T085022Z
UID:618-1558944000-1559581200@nec.up.edu.ph
SUMMARY:Public Procurement Specialist Certification Program Level 2 (Intermediate) - Legazpi
DESCRIPTION:To register\, go to our Online Registration Site: http://bit.ly/UPNECRegistration
URL:https://nec.up.edu.ph/training-calendar/public-procurement-specialist-certification-program-level-2-intermediate-upnec/
CATEGORIES:Training Schedule
END:VEVENT
BEGIN:VEVENT
DTSTART;TZID=Asia/Manila:20190521T080000
DTEND;TZID=Asia/Manila:20190523T170000
DTSTAMP:20260424T210959
CREATED:20181123T095154Z
LAST-MODIFIED:20230327T085022Z
UID:5308-1558425600-1558630800@nec.up.edu.ph
SUMMARY:Online Global Information System (GIS) and Web Mapping
DESCRIPTION:To register\, go to our Online Registration Site: http://bit.ly/UPNECRegistration
URL:https://nec.up.edu.ph/training-calendar/online-global-information-system-gis-and-web-mapping/
CATEGORIES:Training Schedule
END:VEVENT
BEGIN:VEVENT
DTSTART;TZID=Asia/Manila:20190514T080000
DTEND;TZID=Asia/Manila:20190516T170000
DTSTAMP:20260424T210959
CREATED:20181127T100133Z
LAST-MODIFIED:20230327T085022Z
UID:598-1557820800-1558026000@nec.up.edu.ph
SUMMARY:Business Analytics Certification Program Module B: Data Warehousing
DESCRIPTION:To register\, go to our Online Registration Site: http://bit.ly/UPNECRegistration
URL:https://nec.up.edu.ph/training-calendar/business-analytics-certification-program-module-b-data-warehousing/
CATEGORIES:Training Schedule
END:VEVENT
BEGIN:VEVENT
DTSTART;TZID=Asia/Manila:20190507T080000
DTEND;TZID=Asia/Manila:20190509T170000
DTSTAMP:20260424T210959
CREATED:20181123T095020Z
LAST-MODIFIED:20241202T032923Z
UID:533-1557216000-1557421200@nec.up.edu.ph
SUMMARY:Professional Certificate in Construction Management Course 3: Construction Project Cost Estimating and Analysis
DESCRIPTION:To register\, go to our Online Registration Site: http://bit.ly/UPNECRegistration
URL:https://nec.up.edu.ph/training-calendar/professional-certificate-in-construction-management-course-3-construction-project-cost-estimating-and-analysis/
CATEGORIES:Training Schedule
END:VEVENT
BEGIN:VEVENT
DTSTART;TZID=Asia/Manila:20190507T080000
DTEND;TZID=Asia/Manila:20190509T170000
DTSTAMP:20260424T210959
CREATED:20181123T094551Z
LAST-MODIFIED:20230327T085022Z
UID:5307-1557216000-1557421200@nec.up.edu.ph
SUMMARY:Professional Certificate in Facilities Management Series 2
DESCRIPTION:To register\, go to our Online Registration Site: http://bit.ly/UPNECRegistration
URL:https://nec.up.edu.ph/training-calendar/professional-certificate-in-facilities-management-series-2/
CATEGORIES:Training Schedule
END:VEVENT
BEGIN:VEVENT
DTSTART;TZID=Asia/Manila:20190423T080000
DTEND;TZID=Asia/Manila:20190430T170000
DTSTAMP:20260424T210959
CREATED:20190130T092122Z
LAST-MODIFIED:20230327T085022Z
UID:664-1556006400-1556643600@nec.up.edu.ph
SUMMARY:Public Procurement Specialist Certification Program Level 1 ( Basic) - Palawan
DESCRIPTION:To register\, go to our Online Registration Site: http://bit.ly/UPNECRegistration
URL:https://nec.up.edu.ph/training-calendar/public-procurement-specialist-certification-program-level-1-basic-palawan/
CATEGORIES:Training Schedule
END:VEVENT
BEGIN:VEVENT
DTSTART;TZID=Asia/Manila:20190423T080000
DTEND;TZID=Asia/Manila:20190425T170000
DTSTAMP:20260424T210959
CREATED:20181123T093456Z
LAST-MODIFIED:20230327T085022Z
UID:527-1556006400-1556211600@nec.up.edu.ph
SUMMARY:Professional Certificate in Construction Management Course 2: Materials and Process Control in Construction
DESCRIPTION:To register\, go to our Online Registration Site: http://bit.ly/UPNECRegistration
URL:https://nec.up.edu.ph/training-calendar/professional-certificate-in-construction-management-course-2-materials-and-process-control-in-construction/
CATEGORIES:Training Schedule
END:VEVENT
BEGIN:VEVENT
DTSTART;TZID=Asia/Manila:20190423T080000
DTEND;TZID=Asia/Manila:20190424T170000
DTSTAMP:20260424T210959
CREATED:20181123T093647Z
LAST-MODIFIED:20230327T085022Z
UID:5306-1556006400-1556125200@nec.up.edu.ph
SUMMARY:Structured Cabling System and Design
DESCRIPTION:To register\, go to our Online Registration Site: http://bit.ly/UPNECRegistration
URL:https://nec.up.edu.ph/training-calendar/structured-cabling-system-and-design/
CATEGORIES:Training Schedule
END:VEVENT
BEGIN:VEVENT
DTSTART;TZID=Asia/Manila:20190410T080000
DTEND;TZID=Asia/Manila:20190412T170000
DTSTAMP:20260424T210959
CREATED:20181123T092947Z
LAST-MODIFIED:20230327T085023Z
UID:525-1554883200-1555088400@nec.up.edu.ph
SUMMARY:Predictive Maintenance and Conditioning Monitoring
DESCRIPTION:To register\, go to our Online Registration Site: http://bit.ly/UPNECRegistration
URL:https://nec.up.edu.ph/training-calendar/predictive-maintenance-and-conditioning-monitoring-2/
CATEGORIES:Training Schedule
END:VEVENT
BEGIN:VEVENT
DTSTART;TZID=Asia/Manila:20190402T080000
DTEND;TZID=Asia/Manila:20190404T170000
DTSTAMP:20260424T210959
CREATED:20181127T095039Z
LAST-MODIFIED:20230327T085023Z
UID:596-1554192000-1554397200@nec.up.edu.ph
SUMMARY:Business Analytics and Certification Program Module A: Introduction to Business Analytics
DESCRIPTION:To register\, go to our Online Registration Site: http://bit.ly/UPNECRegistration
URL:https://nec.up.edu.ph/training-calendar/business-analytics-and-certification-program-module-a-introduction-to-business-analytics/
CATEGORIES:Training Schedule
END:VEVENT
BEGIN:VEVENT
DTSTART;TZID=Asia/Manila:20190402T080000
DTEND;TZID=Asia/Manila:20190404T170000
DTSTAMP:20260424T210959
CREATED:20181123T092746Z
LAST-MODIFIED:20230327T085023Z
UID:523-1554192000-1554397200@nec.up.edu.ph
SUMMARY:Project Management in the Construction Industry
DESCRIPTION:To register\, go to our Online Registration Site: http://bit.ly/UPNECRegistration
URL:https://nec.up.edu.ph/training-calendar/project-management-in-the-construction-industry/
CATEGORIES:Training Schedule
END:VEVENT
BEGIN:VEVENT
DTSTART;TZID=Asia/Manila:20190322T080000
DTEND;TZID=Asia/Manila:20190329T170000
DTSTAMP:20260424T210959
CREATED:20190130T091848Z
LAST-MODIFIED:20230327T085023Z
UID:661-1553241600-1553878800@nec.up.edu.ph
SUMMARY:Public Procurement Specialist Certification Program Level 1 ( Basic) - Legazpi City
DESCRIPTION:To register\, go to our Online Registration Site: http://bit.ly/UPNECRegistration
URL:https://nec.up.edu.ph/training-calendar/public-procurement-specialist-certification-program-level-1-basic-legazpi-city-2/
CATEGORIES:Training Schedule
END:VEVENT
BEGIN:VEVENT
DTSTART;TZID=Asia/Manila:20190322T080000
DTEND;TZID=Asia/Manila:20190329T170000
DTSTAMP:20260424T210959
CREATED:20190129T180900Z
LAST-MODIFIED:20230327T085023Z
UID:658-1553241600-1553878800@nec.up.edu.ph
SUMMARY:Public Procurement Specialist Certification Program Level 1 (Basic)- Legazpi City
DESCRIPTION:To register\, click HERE
URL:https://nec.up.edu.ph/training-calendar/public-procurement-specialist-certification-program-level-1-basic-legazpi-city/
CATEGORIES:Training Schedule
END:VEVENT
BEGIN:VEVENT
DTSTART;TZID=Asia/Manila:20190319T080000
DTEND;TZID=Asia/Manila:20190321T170000
DTSTAMP:20260424T211000
CREATED:20181123T092414Z
LAST-MODIFIED:20230327T085042Z
UID:521-1552982400-1553187600@nec.up.edu.ph
SUMMARY:Professional Certificate in Construction Management Course 4: Construction Project Scheduling and Analysis
DESCRIPTION:To register\, go to our Online Registration Site: http://bit.ly/UPNECRegistration
URL:https://nec.up.edu.ph/training-calendar/professional-certificate-in-construction-management-course-4-construction-project-scheduling-and-analysis/
CATEGORIES:Training Schedule
END:VEVENT
BEGIN:VEVENT
DTSTART;TZID=Asia/Manila:20190312T080000
DTEND;TZID=Asia/Manila:20190314T170000
DTSTAMP:20260424T211000
CREATED:20181123T092146Z
LAST-MODIFIED:20230327T085042Z
UID:519-1552377600-1552582800@nec.up.edu.ph
SUMMARY:Maintenance of Refrigeration and Air Conditioning System
DESCRIPTION:To register\, go to our Online Registration Site: http://bit.ly/UPNECRegistration
URL:https://nec.up.edu.ph/training-calendar/maintenance-of-refrigeration-and-air-conditioning-system/
CATEGORIES:Training Schedule
END:VEVENT
BEGIN:VEVENT
DTSTART;TZID=Asia/Manila:20190305T080000
DTEND;TZID=Asia/Manila:20190307T170000
DTSTAMP:20260424T211000
CREATED:20181123T092016Z
LAST-MODIFIED:20230327T085042Z
UID:517-1551772800-1551978000@nec.up.edu.ph
SUMMARY:Professional Certificate in Facilities Management Series 1
DESCRIPTION:To register\, go to our Online Registration Site: http://bit.ly/UPNECRegistration
URL:https://nec.up.edu.ph/training-calendar/professional-certificate-in-facilities-management-series-1-2/
CATEGORIES:Training Schedule
END:VEVENT
BEGIN:VEVENT
DTSTART;TZID=Asia/Manila:20190305T080000
DTEND;TZID=Asia/Manila:20190307T170000
DTSTAMP:20260424T211000
CREATED:20181123T091249Z
LAST-MODIFIED:20230327T085042Z
UID:513-1551772800-1551978000@nec.up.edu.ph
SUMMARY:Professional Certificate in Construction Management Course 1: Construction Project Supervision and Safety
DESCRIPTION:To register\, go to our Online Registration Site: http://bit.ly/UPNECRegistration
URL:https://nec.up.edu.ph/training-calendar/professional-certificate-in-construction-management-course-1-construction-project-supervision-and-safety/
CATEGORIES:Training Schedule
END:VEVENT
BEGIN:VEVENT
DTSTART;TZID=Asia/Manila:20190226T080000
DTEND;TZID=Asia/Manila:20190307T170000
DTSTAMP:20260424T211000
CREATED:20181127T153046Z
LAST-MODIFIED:20230327T085042Z
UID:613-1551168000-1551978000@nec.up.edu.ph
SUMMARY:Public Procurement  Specialist Certification Program Level 1 (Basic) - UPNEC
DESCRIPTION:To register\, go to our Online Registration Site: http://bit.ly/UPNECRegistration \n*inclusive dates are: February 26-28\, March 1-2 & 5-7
URL:https://nec.up.edu.ph/training-calendar/public-procurement-specialist-certification-program-level-1-basic-2/
CATEGORIES:Training Schedule
END:VEVENT
BEGIN:VEVENT
DTSTART;TZID=Asia/Manila:20181120T080000
DTEND;TZID=Asia/Manila:20181122T170000
DTSTAMP:20260424T211000
CREATED:20180709T140613Z
LAST-MODIFIED:20230327T085042Z
UID:240-1542700800-1542906000@nec.up.edu.ph
SUMMARY:Predictive Maintenance and Conditioning Monitoring
DESCRIPTION:To register\, click HERE
URL:https://nec.up.edu.ph/training-calendar/predictive-maintenance-and-conditioning-monitoring/
END:VEVENT
BEGIN:VEVENT
DTSTART;TZID=Asia/Manila:20181107T080000
DTEND;TZID=Asia/Manila:20181109T170000
DTSTAMP:20260424T211000
CREATED:20180711T084209Z
LAST-MODIFIED:20230327T085042Z
UID:290-1541577600-1541782800@nec.up.edu.ph
SUMMARY:Environmental Health and Safety
DESCRIPTION:To register\, click HERE
URL:https://nec.up.edu.ph/training-calendar/environmental-health-and-safety/
END:VEVENT
BEGIN:VEVENT
DTSTART;TZID=Asia/Manila:20181106T080000
DTEND;TZID=Asia/Manila:20181108T170000
DTSTAMP:20260424T211000
CREATED:20180709T140440Z
LAST-MODIFIED:20230327T085042Z
UID:236-1541491200-1541696400@nec.up.edu.ph
SUMMARY:Professional Certificate in Facilities Management Series 3
DESCRIPTION:To register\, click HERE
URL:https://nec.up.edu.ph/training-calendar/professional-certificate-in-facilities-management-series-3-2/
END:VEVENT
BEGIN:VEVENT
DTSTART;TZID=Asia/Manila:20181106T080000
DTEND;TZID=Asia/Manila:20181108T170000
DTSTAMP:20260424T211000
CREATED:20180709T140347Z
LAST-MODIFIED:20230327T085043Z
UID:234-1541491200-1541696400@nec.up.edu.ph
SUMMARY:Project Management
DESCRIPTION:To register\, click HERE
URL:https://nec.up.edu.ph/training-calendar/project-management/
END:VEVENT
BEGIN:VEVENT
DTSTART;TZID=Asia/Manila:20181105T080000
DTEND;TZID=Asia/Manila:20181109T170000
DTSTAMP:20260424T211000
CREATED:20180709T140310Z
LAST-MODIFIED:20230327T085043Z
UID:232-1541404800-1541782800@nec.up.edu.ph
SUMMARY:Certificate Program in Toxic and Hazardous Waste Management THW 240: Pollution Prevention
DESCRIPTION:To register\, click HERE
URL:https://nec.up.edu.ph/training-calendar/certificate-program-in-toxic-and-hazardous-waste-management-thw-240-pollution-prevention/
END:VEVENT
BEGIN:VEVENT
DTSTART;TZID=Asia/Manila:20181023T080000
DTEND;TZID=Asia/Manila:20181026T170000
DTSTAMP:20260424T211000
CREATED:20180709T133152Z
LAST-MODIFIED:20230327T085043Z
UID:216-1540281600-1540573200@nec.up.edu.ph
SUMMARY:Green Infrastructure in Natural Habitats and Physical Cultural Resources
DESCRIPTION:To register\, click HERE
URL:https://nec.up.edu.ph/training-calendar/greening-the-supply-chain/
END:VEVENT
BEGIN:VEVENT
DTSTART;TZID=Asia/Manila:20181017T080000
DTEND;TZID=Asia/Manila:20181019T170000
DTSTAMP:20260424T211000
CREATED:20180709T140200Z
LAST-MODIFIED:20230327T085043Z
UID:230-1539763200-1539968400@nec.up.edu.ph
SUMMARY:Business Analytics Certification Program Module E: Prescriptive Analytics
DESCRIPTION:To register\, click HERE
URL:https://nec.up.edu.ph/training-calendar/business-analytics-certification-program-module-e-prescriptive-analytics/
END:VEVENT
BEGIN:VEVENT
DTSTART;TZID=Asia/Manila:20181016T080000
DTEND;TZID=Asia/Manila:20181019T170000
DTSTAMP:20260424T211000
CREATED:20180918T161954Z
LAST-MODIFIED:20230327T085043Z
UID:477-1539676800-1539968400@nec.up.edu.ph
SUMMARY:Involuntary Resettlement
DESCRIPTION:To register\, click HERE
URL:https://nec.up.edu.ph/training-calendar/involuntary-resettlement/
CATEGORIES:Training Schedule
END:VEVENT
BEGIN:VEVENT
DTSTART;VALUE=DATE:20181013
DTEND;VALUE=DATE:20181014
DTSTAMP:20260424T211000
CREATED:20180920T162359Z
LAST-MODIFIED:20230327T085043Z
UID:488-1539388800-1539475199@nec.up.edu.ph
SUMMARY:Training on Bite-size Learning: How to Deliver a TED-Talk Type of Presentation (Batch 2)
DESCRIPTION:The University of the Philippines National Engineering Center (UP NEC) and UP College of Engineering (UP COE) will conduct another batch of free training on how to present ideas and research works using Bite-Size Learning on 13 October 2018 (Saturday)\, 8:00AM – 5:00PM at the Seminar Room B\, 2nd Floor\, UP NEC. Meals and refreshments will be served. \nIf interested\, kindly register through this link: https://tinyurl.com/TrainingOnBiteSizeLearning \nLimited Slots available. \nThis free training is limited to UP NEC and UP COE Institute Directors\, Department Chairpersons\, Program Directors\, Center Directors\, Faculty Members\, Researchers\, Project Leaders\, Project Members\, Consultants\, Training Lecturers\, and Graduate Students. \nFor queries\, you may reach the UP NEC Engineering Information and Marketing Division at (02) 981-8500 local 3008 and 3006. \n\n\nNON-APPEARANCE DURING THE TRAINING PROPER\nBased on the responses to this online registration\, the UP NEC prepares sufficient number of materials and meals. This preparation entails cost on our part. Thus\, we would like to remind you that before answering this platform\, please ensure that you will be able to attend the training on your chosen date. Otherwise\, the UP NEC will require you to pay for the equivalent cost of an attending participant.  This policy will help us save our resources and at the same time utilize our limited slots.  
URL:https://nec.up.edu.ph/training-calendar/training-on-bite-size-learning-how-to-deliver-a-ted-talk-type-of-presentation-batch-2/
CATEGORIES:Training Schedule
ATTACH;FMTTYPE=:
END:VEVENT
BEGIN:VEVENT
DTSTART;TZID=Asia/Manila:20181009T080000
DTEND;TZID=Asia/Manila:20181011T170000
DTSTAMP:20260424T211000
CREATED:20180709T133748Z
LAST-MODIFIED:20230327T085043Z
UID:224-1539072000-1539277200@nec.up.edu.ph
SUMMARY:Project Management in Construction Industry
DESCRIPTION:To register\, click HERE
URL:https://nec.up.edu.ph/training-calendar/project-management-in-construction-industry/
END:VEVENT
BEGIN:VEVENT
DTSTART;TZID=Asia/Manila:20181002T080000
DTEND;TZID=Asia/Manila:20181004T170000
DTSTAMP:20260424T211000
CREATED:20180709T133610Z
LAST-MODIFIED:20230327T085043Z
UID:222-1538467200-1538672400@nec.up.edu.ph
SUMMARY:Professional Certificate in Facilities Management Series 2
DESCRIPTION:To register\, click HERE
URL:https://nec.up.edu.ph/training-calendar/professional-certificate-in-facilities-management-series-3/
END:VEVENT
END:VCALENDAR