BEGIN:VCALENDAR
VERSION:2.0
PRODID:-//National Engineering Center - ECPv6.2.4//NONSGML v1.0//EN
CALSCALE:GREGORIAN
METHOD:PUBLISH
X-WR-CALNAME:National Engineering Center
X-ORIGINAL-URL:https://nec.up.edu.ph
X-WR-CALDESC:Events for National Engineering Center
REFRESH-INTERVAL;VALUE=DURATION:PT1H
X-Robots-Tag:noindex
X-PUBLISHED-TTL:PT1H
BEGIN:VTIMEZONE
TZID:Asia/Manila
BEGIN:STANDARD
TZOFFSETFROM:+0800
TZOFFSETTO:+0800
TZNAME:PST
DTSTART:20190101T000000
END:STANDARD
END:VTIMEZONE
BEGIN:VEVENT
DTSTART;TZID=Asia/Manila:20191001T080000
DTEND;TZID=Asia/Manila:20191003T170000
DTSTAMP:20260422T013842
CREATED:20181127T092946Z
LAST-MODIFIED:20230327T085004Z
UID:579-1569916800-1570122000@nec.up.edu.ph
SUMMARY:Maintenance of Rotating Machines
DESCRIPTION:To register\, go to our Online Registration Site: http://bit.ly/UPNECRegistration
URL:https://nec.up.edu.ph/training-calendar/maintenance-of-rotating-machines-2/
CATEGORIES:Training Schedule
END:VEVENT
BEGIN:VEVENT
DTSTART;TZID=Asia/Manila:20191001T080000
DTEND;TZID=Asia/Manila:20191003T170000
DTSTAMP:20260422T013842
CREATED:20181127T093258Z
LAST-MODIFIED:20230327T085004Z
UID:582-1569916800-1570122000@nec.up.edu.ph
SUMMARY:Project Management in the Construction Industry
DESCRIPTION:To register\, go to our Online Registration Site: http://bit.ly/UPNECRegistration
URL:https://nec.up.edu.ph/training-calendar/project-management-in-the-construction-industry-3/
CATEGORIES:Training Schedule
END:VEVENT
BEGIN:VEVENT
DTSTART;TZID=Asia/Manila:20191008T080000
DTEND;TZID=Asia/Manila:20191010T170000
DTSTAMP:20260422T013842
CREATED:20181127T093413Z
LAST-MODIFIED:20230327T084947Z
UID:584-1570521600-1570726800@nec.up.edu.ph
SUMMARY:Maintenance of Commercial and Industrial Building Facilities and Utilities
DESCRIPTION:To register\, go to our Online Registration Site: http://bit.ly/UPNECRegistration
URL:https://nec.up.edu.ph/training-calendar/maintenance-of-commercial-and-industrial-building-facilities-and-utilities/
CATEGORIES:Training Schedule
END:VEVENT
BEGIN:VEVENT
DTSTART;TZID=Asia/Manila:20191014T080000
DTEND;TZID=Asia/Manila:20191018T170000
DTSTAMP:20260422T013842
CREATED:20181127T093729Z
LAST-MODIFIED:20230327T084947Z
UID:586-1571040000-1571418000@nec.up.edu.ph
SUMMARY:Basic Course for Pollution Control Officers
DESCRIPTION:To register\, go to our Online Registration Site: http://bit.ly/UPNECRegistration
URL:https://nec.up.edu.ph/training-calendar/basic-course-for-pollution-control-officers/
CATEGORIES:Training Schedule
END:VEVENT
BEGIN:VEVENT
DTSTART;TZID=Asia/Manila:20191022T080000
DTEND;TZID=Asia/Manila:20191024T170000
DTSTAMP:20260422T013842
CREATED:20181127T093838Z
LAST-MODIFIED:20230327T084947Z
UID:588-1571731200-1571936400@nec.up.edu.ph
SUMMARY:Professional Certificate in Facilities Management Series 3
DESCRIPTION:To register\, go to our Online Registration Site: http://bit.ly/UPNECRegistration
URL:https://nec.up.edu.ph/training-calendar/professional-certificate-in-facilities-management-series-3-4/
CATEGORIES:Training Schedule
END:VEVENT
END:VCALENDAR