BEGIN:VCALENDAR
VERSION:2.0
PRODID:-//National Engineering Center - ECPv6.2.4//NONSGML v1.0//EN
CALSCALE:GREGORIAN
METHOD:PUBLISH
X-WR-CALNAME:National Engineering Center
X-ORIGINAL-URL:https://nec.up.edu.ph
X-WR-CALDESC:Events for National Engineering Center
REFRESH-INTERVAL;VALUE=DURATION:PT1H
X-Robots-Tag:noindex
X-PUBLISHED-TTL:PT1H
BEGIN:VTIMEZONE
TZID:Asia/Manila
BEGIN:STANDARD
TZOFFSETFROM:+0800
TZOFFSETTO:+0800
TZNAME:PST
DTSTART:20200101T000000
END:STANDARD
END:VTIMEZONE
BEGIN:VEVENT
DTSTART;TZID=Asia/Manila:20200204T080000
DTEND;TZID=Asia/Manila:20200206T170000
DTSTAMP:20260426T005047
CREATED:20200116T151050Z
LAST-MODIFIED:20230327T084946Z
UID:780-1580803200-1581008400@nec.up.edu.ph
SUMMARY:Project Management in the Construction Industry
DESCRIPTION:To register\, go to our Online Registration Site: http://bit.ly/UPNECRegistration
URL:https://nec.up.edu.ph/training-calendar/project-management-in-the-construction-industry-4/
CATEGORIES:Training Schedule
END:VEVENT
BEGIN:VEVENT
DTSTART;TZID=Asia/Manila:20200211T080000
DTEND;TZID=Asia/Manila:20200213T170000
DTSTAMP:20260426T005047
CREATED:20200124T100003Z
LAST-MODIFIED:20230327T084946Z
UID:820-1581408000-1581613200@nec.up.edu.ph
SUMMARY:Data Science and Analytics Certification Program MODULE A: Introduction to Data Science and Analytics
DESCRIPTION:To register\, go to our Online Registration Site: http://bit.ly/UPNECRegistration
URL:https://nec.up.edu.ph/training-calendar/data-science-and-analytics-certification-program-module-a-introduction-to-data-science-and-analytics/
CATEGORIES:Training Schedule
END:VEVENT
BEGIN:VEVENT
DTSTART;TZID=Asia/Manila:20200217T080000
DTEND;TZID=Asia/Manila:20200220T170000
DTSTAMP:20260426T005047
CREATED:20200124T093451Z
LAST-MODIFIED:20230327T084946Z
UID:785-1581926400-1582218000@nec.up.edu.ph
SUMMARY:Basic AutoCAD
DESCRIPTION:To register\, go to our Online Registration Site: http://bit.ly/UPNECRegistration
URL:https://nec.up.edu.ph/training-calendar/basic-autocad/
CATEGORIES:Training Schedule
END:VEVENT
BEGIN:VEVENT
DTSTART;TZID=Asia/Manila:20200218T080000
DTEND;TZID=Asia/Manila:20200228T170000
DTSTAMP:20260426T005047
CREATED:20200124T095119Z
LAST-MODIFIED:20230327T084946Z
UID:814-1582012800-1582909200@nec.up.edu.ph
SUMMARY:Public Procurement Specialist Certification Course Level 1 (Basic)
DESCRIPTION:To register\, go to our Online Registration Site: http://bit.ly/UPNECRegistration \n  \nTraining Dates: \nFebruary 18-22 & 26-28\, 2020
URL:https://nec.up.edu.ph/training-calendar/public-procurement-specialist-certification-course-level-1-basic/
CATEGORIES:Training Schedule
END:VEVENT
BEGIN:VEVENT
DTSTART;TZID=Asia/Manila:20200226T080000
DTEND;TZID=Asia/Manila:20200228T170000
DTSTAMP:20260426T005047
CREATED:20200124T101240Z
LAST-MODIFIED:20230327T084946Z
UID:823-1582704000-1582909200@nec.up.edu.ph
SUMMARY:Data Science and Analytics Certification Program MODULE B: Data Warehousing
DESCRIPTION:To register\, go to our Online Registration Site: http://bit.ly/UPNECRegistration
URL:https://nec.up.edu.ph/training-calendar/data-science-and-analytics-certification-program-module-b-data-warehousing/
CATEGORIES:Training Schedule
END:VEVENT
END:VCALENDAR